BEGIN:VCALENDAR
VERSION:2.0
PRODID:-//BILDUNGSBERATUNG KONSTANZ - ECPv6.15.20//NONSGML v1.0//EN
CALSCALE:GREGORIAN
METHOD:PUBLISH
X-ORIGINAL-URL:https://www.bildungsberatung-konstanz.de
X-WR-CALDESC:Veranstaltungen für BILDUNGSBERATUNG KONSTANZ
REFRESH-INTERVAL;VALUE=DURATION:PT1H
X-Robots-Tag:noindex
X-PUBLISHED-TTL:PT1H
BEGIN:VTIMEZONE
TZID:UTC
BEGIN:STANDARD
TZOFFSETFROM:+0000
TZOFFSETTO:+0000
TZNAME:UTC
DTSTART:20150101T000000
END:STANDARD
END:VTIMEZONE
BEGIN:VEVENT
DTSTART;VALUE=DATE:20161021
DTEND;VALUE=DATE:20161023
DTSTAMP:20260426T021533
CREATED:20160616T125815Z
LAST-MODIFIED:20160622T143107Z
UID:1159-1477008000-1477180799@www.bildungsberatung-konstanz.de
SUMMARY:Basis-Schulung „engagiert in Konstanz“
DESCRIPTION:Zertifizierte Qualifikation für Ganztagesbetreuungskräfte und Jugendbegleiter/innen an Schulen \n\nSeminarteil 2:\nGrundlagen des pädagogischen Arbeitens  \n\nAnmeldung bis 16. September 2016\nKursgebühr 100 € für alle 4 Module\nDie Teilnehmerzahl ist auf 20 Personen begrenzt.
URL:https://www.bildungsberatung-konstanz.de/event/basis-schulung-engagiert-in-konstanz-2/
ORGANIZER;CN="Amt f%C3%BCr Bildung und Sport - Koordination Bildung und Integration":MAILTO:bildungsberatung@konstanz.de
END:VEVENT
END:VCALENDAR