BEGIN:VCALENDAR
VERSION:2.0
PRODID:-//BILDUNGSBERATUNG KONSTANZ - ECPv6.15.20//NONSGML v1.0//EN
CALSCALE:GREGORIAN
METHOD:PUBLISH
X-WR-CALNAME:BILDUNGSBERATUNG KONSTANZ
X-ORIGINAL-URL:https://www.bildungsberatung-konstanz.de
X-WR-CALDESC:Veranstaltungen für BILDUNGSBERATUNG KONSTANZ
REFRESH-INTERVAL;VALUE=DURATION:PT1H
X-Robots-Tag:noindex
X-PUBLISHED-TTL:PT1H
BEGIN:VTIMEZONE
TZID:UTC
BEGIN:STANDARD
TZOFFSETFROM:+0000
TZOFFSETTO:+0000
TZNAME:UTC
DTSTART:20180101T000000
END:STANDARD
END:VTIMEZONE
BEGIN:VEVENT
DTSTART;TZID=UTC:20191106T170000
DTEND;TZID=UTC:20191106T190000
DTSTAMP:20260423T163018
CREATED:20191023T120718Z
LAST-MODIFIED:20191023T120718Z
UID:3618-1573059600-1573066800@www.bildungsberatung-konstanz.de
SUMMARY:Infoabend - Ausbildung deine Chance!
DESCRIPTION:Ausbildung heißt: ankommen und bleiben \nDie Caritas Konstanz\, die AWO Konstanz\, die Industrie- und Handelskammer\, die Handwerkskammer\, die Agentur für Arbeit und die Stadt Konstanz laden zu einem\nInfoabend rund um das Thema Ausbildung für Menschen mit Migrationshintergrund ein. \n– Was bedeutet eine Ausbildung für mich?\n– Wie finde ich eine Ausbildung?\n– Welche Voraussetzungen müssen erfüllt sein?\n– Ausbildungsduldung – was ist das?\n– Keine Angst vor der EQ\n– Hilfen während der Ausbildung\n– Interview mit Auszubildenden \nAbschließend können sich alle Teilnehmer*innen an Infotischen austauschen. \nWann: Mittwoch\, 6. November 2019\nUhrzeit: 17.00 bis 18.30 Uhr\nWo: IHK Konstanz  – Reichenaustraße 21  –  78467 Konstanz \nDie Teilnahme ist kostenlos. Eine Anmeldung ist nicht erforderlich. \nKontakt:\nCharlotte Ergang\nMail: c.ergang@caritas-kn.de\nTel.: 07531/1200-242
URL:https://www.bildungsberatung-konstanz.de/event/infoabend-ausbildung-deine-chance/
END:VEVENT
END:VCALENDAR