BEGIN:VCALENDAR
VERSION:2.0
PRODID:-//BILDUNGSBERATUNG KONSTANZ - ECPv6.15.20//NONSGML v1.0//EN
CALSCALE:GREGORIAN
METHOD:PUBLISH
X-WR-CALNAME:BILDUNGSBERATUNG KONSTANZ
X-ORIGINAL-URL:https://www.bildungsberatung-konstanz.de
X-WR-CALDESC:Veranstaltungen für BILDUNGSBERATUNG KONSTANZ
REFRESH-INTERVAL;VALUE=DURATION:PT1H
X-Robots-Tag:noindex
X-PUBLISHED-TTL:PT1H
BEGIN:VTIMEZONE
TZID:UTC
BEGIN:STANDARD
TZOFFSETFROM:+0000
TZOFFSETTO:+0000
TZNAME:UTC
DTSTART:20180101T000000
END:STANDARD
END:VTIMEZONE
BEGIN:VEVENT
DTSTART;TZID=UTC:20191117T150000
DTEND;TZID=UTC:20191117T170000
DTSTAMP:20260423T161416
CREATED:20191023T121310Z
LAST-MODIFIED:20191023T121311Z
UID:3621-1574002800-1574010000@www.bildungsberatung-konstanz.de
SUMMARY:Internationaler Eltern-Infotag 2019
DESCRIPTION:Beim Elterninformationstag erhalten Sie wichtige Informationen\nüber Schulen\, Lernhilfen und Ausbildungsmöglichkeiten für Ihre\nKinder\, von der Einschulungsuntersuchung bis zum\nSchulabschluss.\nBeim Elterninformationstag erhalten Sie Antworten auf Fragen\, wie: \n\nWas bedeutet Schulfähigkeit?\nWelche Schulen gibt es in Konstanz?\nWelche ist die richtige Schule für mein Kind?\nWie kann mein Kind ideal gefördert werden?\nWelchen Schulabschluss kann mein Kind an welcher Schule bekommen?\n\nSie können mit ExpertInnen und ElternmentorInnen über Ihre\nAnliegen sprechen. Mit den ElternmentorInnen können Sie in\nfolgenden Sprachen sprechen: Arabisch\, Bosnisch\, Bulgarisch\,\nDeutsch\, Englisch\, Französisch\, Italienisch\, Kroatisch\, Kurdisch\,\nPersisch (Farsi)\, Polnisch\, Rumänisch\, Russisch\, Serbisch\, Spanisch\, Türkisch und Ungarisch. \nFLYER
URL:https://www.bildungsberatung-konstanz.de/event/internationaler-eltern-infotag-2019/
LOCATION:Treffpunkt Petershausen\, Georg-Elser-Platz 1\, Konstanz\, 78467
END:VEVENT
END:VCALENDAR