BEGIN:VCALENDAR
VERSION:2.0
PRODID:-//BILDUNGSBERATUNG KONSTANZ - ECPv6.15.20//NONSGML v1.0//EN
CALSCALE:GREGORIAN
METHOD:PUBLISH
X-ORIGINAL-URL:https://www.bildungsberatung-konstanz.de
X-WR-CALDESC:Veranstaltungen für BILDUNGSBERATUNG KONSTANZ
REFRESH-INTERVAL;VALUE=DURATION:PT1H
X-Robots-Tag:noindex
X-PUBLISHED-TTL:PT1H
BEGIN:VTIMEZONE
TZID:UTC
BEGIN:STANDARD
TZOFFSETFROM:+0000
TZOFFSETTO:+0000
TZNAME:UTC
DTSTART:20220101T000000
END:STANDARD
END:VTIMEZONE
BEGIN:VEVENT
DTSTART;VALUE=DATE:20230821
DTEND;VALUE=DATE:20230902
DTSTAMP:20260422T173618
CREATED:20230524T122054Z
LAST-MODIFIED:20230524T122054Z
UID:7923-1692576000-1693612799@www.bildungsberatung-konstanz.de
SUMMARY:Sommerschule 2023
DESCRIPTION:Das Amt für Bildung und Sport der Stadt Konstanz bietet vom 21. August bis 01. September 2023 eine zentrale Sommerschule im Neubau des Suso-Gymnasiums in Konstanz an. Ziel der Sommerschule ist es\, Schülerinnen und Schülern mit Nachholbedarf einen besseren Start ins neue Schuljahr zu ermöglichen. Der Unterricht in den Fächern Deutsch\, Mathematik und Englisch sowie das freizeitpädagogische Rahmenprogramm finden Montag bis Freitag von 9 – 16 Uhr statt.
URL:https://www.bildungsberatung-konstanz.de/event/sommerschule-2023/
LOCATION:Neubau Suso-Gymnasium
END:VEVENT
END:VCALENDAR