BEGIN:VCALENDAR
VERSION:2.0
PRODID:-//BILDUNGSBERATUNG KONSTANZ - ECPv6.15.20//NONSGML v1.0//EN
CALSCALE:GREGORIAN
METHOD:PUBLISH
X-ORIGINAL-URL:https://www.bildungsberatung-konstanz.de
X-WR-CALDESC:Veranstaltungen für BILDUNGSBERATUNG KONSTANZ
REFRESH-INTERVAL;VALUE=DURATION:PT1H
X-Robots-Tag:noindex
X-PUBLISHED-TTL:PT1H
BEGIN:VTIMEZONE
TZID:UTC
BEGIN:STANDARD
TZOFFSETFROM:+0000
TZOFFSETTO:+0000
TZNAME:UTC
DTSTART:20230101T000000
END:STANDARD
END:VTIMEZONE
BEGIN:VEVENT
DTSTART;TZID=UTC:20240819T090000
DTEND;TZID=UTC:20240830T160000
DTSTAMP:20260421T234012
CREATED:20240625T125728Z
LAST-MODIFIED:20240625T125728Z
UID:8211-1724058000-1725033600@www.bildungsberatung-konstanz.de
SUMMARY:Konstanzer Sommerschule 2024
DESCRIPTION:Das Amt für Bildung und Sport der Stadt Konstanz bietet vom 19. August bis 30. August 2024 die Konstanzer Sommerschule im Neubau des Suso-Gymnasiums in Konstanz an. \nZiel der Sommerschule ist es\, SchülerInnen mit Nachholbedarf einen besseren\nStart ins neue Schuljahr zu ermöglichen. Der Unterricht in den Kernfächern (Deutsch\, Mathematik\, Englisch) sowie das freizeitpädagogische Rahmenprogramm\nfindet jeweils Montag bis Freitag von 9 – 16 Uhr statt. \nIm Rahmen der Sommerschule wird eine Sprachschule für zugewanderte SchülerInnen angeboten. Die SchülerInnen der Sprachschule werden vormittags\nausschließlich im Fach „Deutsch als Zweitsprache“ beschult und nachmittags im freizeitpädagogischen Rahmenprogramm integriert. \nZIELGRUPPE\nMitmachen können SchülerInnen aller Konstanzer Schulen\, die im Schuljahr 2024/25 die Klassenstufe 5– 10 oder VKL-Klassen besuchen werden und einen zusätzlichen Förder- und Nachholbedarf in den genannten Kernfächern bzw. im Bereich „Deutsch als Zweitsprache“ aufweisen. \nANMELDUNG \nINFORMATIONEN \nStadt Konstanz | Amt für Bildung und Sport\nBenediktinerplatz 8 | 78467 Konstanz\nLena Hommel\nTel. +49 7531 900-2903\nlena.hommel@konstanz.de
URL:https://www.bildungsberatung-konstanz.de/event/konstanzer-sommerschule-2024/
END:VEVENT
END:VCALENDAR