BEGIN:VCALENDAR
VERSION:2.0
PRODID:-//BILDUNGSBERATUNG KONSTANZ - ECPv6.15.20//NONSGML v1.0//EN
CALSCALE:GREGORIAN
METHOD:PUBLISH
X-ORIGINAL-URL:https://www.bildungsberatung-konstanz.de
X-WR-CALDESC:Veranstaltungen für BILDUNGSBERATUNG KONSTANZ
REFRESH-INTERVAL;VALUE=DURATION:PT1H
X-Robots-Tag:noindex
X-PUBLISHED-TTL:PT1H
BEGIN:VTIMEZONE
TZID:UTC
BEGIN:STANDARD
TZOFFSETFROM:+0000
TZOFFSETTO:+0000
TZNAME:UTC
DTSTART:20230101T000000
END:STANDARD
END:VTIMEZONE
BEGIN:VEVENT
DTSTART;TZID=UTC:20240929T150000
DTEND;TZID=UTC:20240929T170000
DTSTAMP:20260421T221951
CREATED:20240625T130306Z
LAST-MODIFIED:20240625T130306Z
UID:8221-1727622000-1727629200@www.bildungsberatung-konstanz.de
SUMMARY:Internationaler Eltern-Infotag 2024
DESCRIPTION:Beim Elterninformationstag erhalten Sie wichtige Informationen über Schulen\, Lernhilfen und Ausbildungsmöglichkeiten für Ihre Kinder\, von der Einschulungsuntersuchung bis zum Schulabschluss. Sie erhalten Antworten auf Fragen\, wie: Was bedeutet Schulfähigkeit? Welche Schulen gibt es in Konstanz? Welche ist die richtige Schule für mein Kind? Wie kann mein Kind ideal gefördert werden? Welchen Schulabschluss kann mein Kind an welcher Schule bekommen? Sie können mit ExpertInnen und ElternmentorInnen über Ihre Anliegen sprechen. Mit den ElternmentorInnen können Sie in folgenden Sprachen sprechen: Arabisch\, Bulgarisch\, Deutsch\, Englisch\, Französisch\, Italienisch\, Kroatisch\, Kurdisch\, Persisch (Farsi)\, Polnisch\, Rumänisch\, Russisch\, Serbisch\, Spanisch\, Türkisch und Ukrainisch. \nFlyer Internationaler Eltern-Infotag 2024
URL:https://www.bildungsberatung-konstanz.de/event/internationaler-eltern-infotag-2024/
END:VEVENT
END:VCALENDAR