BEGIN:VCALENDAR
VERSION:2.0
PRODID:-//BILDUNGSBERATUNG KONSTANZ - ECPv6.15.20//NONSGML v1.0//EN
CALSCALE:GREGORIAN
METHOD:PUBLISH
X-WR-CALNAME:BILDUNGSBERATUNG KONSTANZ
X-ORIGINAL-URL:https://www.bildungsberatung-konstanz.de
X-WR-CALDESC:Veranstaltungen für BILDUNGSBERATUNG KONSTANZ
REFRESH-INTERVAL;VALUE=DURATION:PT1H
X-Robots-Tag:noindex
X-PUBLISHED-TTL:PT1H
BEGIN:VTIMEZONE
TZID:UTC
BEGIN:STANDARD
TZOFFSETFROM:+0000
TZOFFSETTO:+0000
TZNAME:UTC
DTSTART:20150101T000000
END:STANDARD
END:VTIMEZONE
BEGIN:VEVENT
DTSTART;VALUE=DATE:20161111
DTEND;VALUE=DATE:20161113
DTSTAMP:20260425T225204
CREATED:20160616T125935Z
LAST-MODIFIED:20160622T143010Z
UID:1160-1478822400-1478995199@www.bildungsberatung-konstanz.de
SUMMARY:Basis-Schulung „engagiert in Konstanz“
DESCRIPTION:Zertifizierte Qualifikation für Ganztagesbetreuungskräfte und Jugendbegleiter/innen an Schulen \n\nSeminarteil 3:\nKommunikation und soziale Kompetenz   \n\nAnmeldung bis 16. September 2016\nKursgebühr 100 € für alle 4 Module\nDie Teilnehmerzahl ist auf 20 Personen begrenzt
URL:https://www.bildungsberatung-konstanz.de/event/basis-schulung-engagiert-in-konstanz-3/
ORGANIZER;CN="Amt f%C3%BCr Bildung und Sport - Koordination Bildung und Integration":MAILTO:bildungsberatung@konstanz.de
END:VEVENT
BEGIN:VEVENT
DTSTART;TZID=UTC:20161113T150000
DTEND;TZID=UTC:20161113T170000
DTSTAMP:20260425T225204
CREATED:20160616T124050Z
LAST-MODIFIED:20160622T143034Z
UID:1147-1479049200-1479056400@www.bildungsberatung-konstanz.de
SUMMARY:Internationaler Eltern-Infotag
DESCRIPTION:Zielgruppe\nEltern \n\nAngebot\nInformationen über Schulen\, Lernhilfen und Ausbildungsmöglichkeiten für Ihre Kinder\, von der Einschulungsuntersuchung bis zum Schulabschluss. \n\nIndividuelle Fachberatung in verschiedenen Sprachen beim Elterninformationstag erhalten Sie.
URL:https://www.bildungsberatung-konstanz.de/event/internationaler-eltern-infotag-2/
LOCATION:Treffpunkt Petershausen\, Georg-Elser-Platz 1\, Konstanz\, 78467
ORGANIZER;CN="Amt f%C3%BCr Bildung und Sport - Koordination Bildung und Integration":MAILTO:bildungsberatung@konstanz.de
END:VEVENT
BEGIN:VEVENT
DTSTART;VALUE=DATE:20161125
DTEND;VALUE=DATE:20161127
DTSTAMP:20260425T225204
CREATED:20160616T130105Z
LAST-MODIFIED:20160622T143144Z
UID:1161-1480032000-1480204799@www.bildungsberatung-konstanz.de
SUMMARY:Basis-Schulung „engagiert in Konstanz“
DESCRIPTION:Zertifizierte Qualifikation für Ganztagesbetreuungskräfte und Jugendbegleiter/innen an Schulen \n\nSeminarteil 4:\nAufbaumodul: Gestaltung des Betreuungsangebots \n\nAnmeldung bis 16. September 2016\nKursgebühr 100 € für alle 4 Module\nDie Teilnehmerzahl ist auf 20 Personen begrenzt.
URL:https://www.bildungsberatung-konstanz.de/event/1161/
ORGANIZER;CN="Amt f%C3%BCr Bildung und Sport - Koordination Bildung und Integration":MAILTO:bildungsberatung@konstanz.de
END:VEVENT
END:VCALENDAR