BEGIN:VCALENDAR
VERSION:2.0
PRODID:-//BILDUNGSBERATUNG KONSTANZ - ECPv6.15.20//NONSGML v1.0//EN
CALSCALE:GREGORIAN
METHOD:PUBLISH
X-ORIGINAL-URL:https://www.bildungsberatung-konstanz.de
X-WR-CALDESC:Veranstaltungen für BILDUNGSBERATUNG KONSTANZ
REFRESH-INTERVAL;VALUE=DURATION:PT1H
X-Robots-Tag:noindex
X-PUBLISHED-TTL:PT1H
BEGIN:VTIMEZONE
TZID:UTC
BEGIN:STANDARD
TZOFFSETFROM:+0000
TZOFFSETTO:+0000
TZNAME:UTC
DTSTART:20160101T000000
END:STANDARD
END:VTIMEZONE
BEGIN:VEVENT
DTSTART;TZID=UTC:20170612T080000
DTEND;TZID=UTC:20170616T170000
DTSTAMP:20260425T110359
CREATED:20170428T001545Z
LAST-MODIFIED:20170428T001545Z
UID:2712-1497254400-1497632400@www.bildungsberatung-konstanz.de
SUMMARY:Sprache verbindet
DESCRIPTION:Ein Sprach- und Freizeitangebot für Konstanzer Grundschulkinder in den Pfingstferien 2017.
URL:https://www.bildungsberatung-konstanz.de/event/sprache-verbindet/
END:VEVENT
BEGIN:VEVENT
DTSTART;TZID=UTC:20170625T150000
DTEND;TZID=UTC:20170625T170000
DTSTAMP:20260425T110359
CREATED:20170307T105520Z
LAST-MODIFIED:20170307T105520Z
UID:2397-1498402800-1498410000@www.bildungsberatung-konstanz.de
SUMMARY:Elternseminar am Sonntag für spanischsprechende Eltern
DESCRIPTION:Eltern und Lehrer in Kontakt \nPadres y maestros en contacto \nFlyer
URL:https://www.bildungsberatung-konstanz.de/event/elternseminar-am-sonntag-fuer-spanischsprechende-eltern-4/
LOCATION:Treffpunkt Petershausen\, Georg-Elser-Platz 1\, Konstanz\, 78467
END:VEVENT
END:VCALENDAR