BEGIN:VCALENDAR
VERSION:2.0
PRODID:-//BILDUNGSBERATUNG KONSTANZ - ECPv6.15.20//NONSGML v1.0//EN
CALSCALE:GREGORIAN
METHOD:PUBLISH
X-WR-CALNAME:BILDUNGSBERATUNG KONSTANZ
X-ORIGINAL-URL:https://www.bildungsberatung-konstanz.de
X-WR-CALDESC:Veranstaltungen für BILDUNGSBERATUNG KONSTANZ
REFRESH-INTERVAL;VALUE=DURATION:PT1H
X-Robots-Tag:noindex
X-PUBLISHED-TTL:PT1H
BEGIN:VTIMEZONE
TZID:UTC
BEGIN:STANDARD
TZOFFSETFROM:+0000
TZOFFSETTO:+0000
TZNAME:UTC
DTSTART:20220101T000000
END:STANDARD
END:VTIMEZONE
BEGIN:VEVENT
DTSTART;TZID=UTC:20230514T150000
DTEND;TZID=UTC:20230514T170000
DTSTAMP:20260422T175323
CREATED:20230412T101633Z
LAST-MODIFIED:20230412T101633Z
UID:7855-1684076400-1684083600@www.bildungsberatung-konstanz.de
SUMMARY:Internationaler Eltern-Infotag 2023
DESCRIPTION:Beim Elterninformationstag erhalten Sie wichtige Informationen über Schulen\, Lernhilfen und Ausbildungsmöglichkeiten für Ihre Kinder\, von der Einschulungsuntersuchung bis zum Schulabschluss. Sie erhalten Antworten auf Fragen\, wie: Was bedeutet Schulfähigkeit? Welche Schulen gibt es in Konstanz? Welche ist die richtige Schule für mein Kind? Wie kann mein Kind ideal gefördert werden? Welchen Schulabschluss kann mein Kind an welcher Schule bekommen? Sie können mit ExpertInnen und ElternmentorInnen über Ihre Anliegen sprechen. Mit den ElternmentorInnen können Sie in folgenden Sprachen sprechen: Arabisch\, Bulgarisch\, Deutsch\, Englisch\, Französisch\, Italienisch\, Kroatisch\, Kurdisch\, Persisch (Farsi)\, Polnisch\, Rumänisch\, Russisch\, Serbisch\, Spanisch\, Türkisch und Ukrainisch. \nFlyer Internationaler Eltern-Infotag 2023  \n 
URL:https://www.bildungsberatung-konstanz.de/event/internationaler-eltern-infotag-2023/
LOCATION:Treffpunkt Petershausen\, Georg-Elser-Platz 1\, Konstanz\, 78467
END:VEVENT
END:VCALENDAR